BEGIN:VCALENDAR
VERSION:2.0
PRODID:-//Brin d&#039;Grelinette - ECPv6.2.1//NONSGML v1.0//EN
CALSCALE:GREGORIAN
METHOD:PUBLISH
X-WR-CALNAME:Brin d&#039;Grelinette
X-ORIGINAL-URL:https://www.brindgre.org
X-WR-CALDESC:évènements pour Brin d&#039;Grelinette
REFRESH-INTERVAL;VALUE=DURATION:PT1H
X-Robots-Tag:noindex
X-PUBLISHED-TTL:PT1H
BEGIN:VTIMEZONE
TZID:Europe/Paris
BEGIN:DAYLIGHT
TZOFFSETFROM:+0100
TZOFFSETTO:+0200
TZNAME:CEST
DTSTART:20260329T010000
END:DAYLIGHT
BEGIN:STANDARD
TZOFFSETFROM:+0200
TZOFFSETTO:+0100
TZNAME:CET
DTSTART:20261025T010000
END:STANDARD
END:VTIMEZONE
BEGIN:VEVENT
DTSTART;TZID=Europe/Paris:20260419T080000
DTEND;TZID=Europe/Paris:20260419T170000
DTSTAMP:20260419T213225
CREATED:20260419T103220Z
LAST-MODIFIED:20260419T103220Z
UID:1607-1776585600-1776618000@www.brindgre.org
SUMMARY:Portail Ouvert au Jardin de la Poterne
DESCRIPTION:Venez (re)découvrir le jardin collectif de la Poterne\, présent sur Grenoble depuis plus de 15 ans\, en compagnie des jardinier(e)s ! \nLes bénévoles vous proposeront des déambulations botaniques (de 14h à 16h) pour visiter le jardin ainsi que de nombreuses activités en tout genre tout le long de la journée (atelier semis\, ateliers créatifs ou encore chants improvisés) ! \nUne foire aux plants se tiendra également sur place ! \nCertains évènements sont soumis à inscription.\n10h30-12h atelier aquarelle (10 places – 12€) – inscriptions ici\n14h et 15h martelage de fleurs (2x 2 places) – inscriptions ici\n15h chants improvisés (20 places) – inscriptions ici \nUn barbecue partagé et crêpes aux herbes du jardin seront au menu à l’heure du déjeuner.
URL:https://www.brindgre.org/event/portail-ouvert-au-jardin-de-la-poterne/
LOCATION:Jardin de la poterne\, 24 chemin de la poterne\, Grenoble
END:VEVENT
END:VCALENDAR